Workbook

Sheet Cover
A2: GALAXY FUTURES Shanghai office decoration
A3: Construction Quotation
B12: Remarks :
B13: 1、The following items are excluded in this quotation:
B14: 此报价不包括以下内容：
B15: a、All the system furniture
B16: 所有系统家具
B17: b、Others, please specify.
B18: 其他，请列明
B19: 2、Fire Protection will be done by landlord's nominated contractor.
B20: 消防工程将由物业\业主指定的承包商完成。
B21: 3、The price of A/C works will be done by landlord's nominated contractor.
B22: 空调工程将由物业\业主指定的承包商完成。
B23: 4、For any other issues, will be resolved through communication by both sides based on the contract.
B24: 对于任何其他问题，将通过双方基于合同的沟通来解决。
A46: *** construction engineering co. LTD.
A47: 43189

Sheet summary
A1: Summary汇总表
A2: Project NO. ：
A3: Project Name：GALAXY FUTURES Shanghai office decoration
A4: Date:2018_03_30
A5: 序号 | B5: DESCRIPTION | C5: quantity | D5: Unit | E5: Amount | F5: Note
A6: 一 | B6: decoration\装饰部分
A7: =Quotation!A6 -> A | B7: =Quotation!B6 -> Preliminaries/施工措施费 | C7: 1 | D7: sum | E7: =Quotation!F88 -> 0
A8: =Quotation!A90 -> B | B8: =Quotation!B90 -> Demolition Works/拆除工程 | C8: 1 | D8: sum | E8: =Quotation!F106 -> 0
A9: =Quotation!A108 -> C | B9: =Quotation!B108 -> Partition Works\隔墙工程 | C9: 1 | D9: sum | E9: =Quotation!F166 -> 0
A10: =Quotation!A168 -> D | B10: =Quotation!B168 -> Ceiling Works\天花工程 | C10: 1 | D10: sum | E10: =Quotation!F211 -> 0
A11: =Quotation!A213 -> E | B11: =Quotation!B213 -> Floor finishing/ 地面工程 | C11: 1 | D11: sum | E11: =Quotation!F283 -> 0
A12: =Quotation!A285 -> F | B12: =Quotation!B285 -> Wall finishing/墙面饰面 | C12: 1 | D12: sum | E12: =Quotation!F367 -> 0
A13: =Quotation!A369 -> G | B13: =Quotation!B369 -> Door works/ 门工程 | C13: 1 | D13: sum | E13: =Quotation!F406 -> 0
A14: =Quotation!A408 -> H | B14: =Quotation!B408 -> Carpentry Works & LOGO /固定家具及LOGO工程 | C14: 1 | D14: sum | E14: =Quotation!F436 -> 0
A15: =Quotation!A438 -> I | B15: =Quotation!B438 -> System furniture\活动家具工程 | C15: 1 | D15: sum | E15: =Quotation!F446 -> 0
A16: =Quotation!A448 -> J | B16: =Quotation!B448 -> Electrical Works/机电工程 | C16: 1 | D16: sum | E16: =Quotation!F536 -> 0
A17: =Quotation!A538 -> K | B17: =Quotation!B538 -> Water supply and drainage works/ 给排水工作 | C17: 1 | D17: sum | E17: =Quotation!F551 -> 0
A18: =Quotation!A553 -> L | B18: =Quotation!B553 -> cable system\综合布线 | C18: 1 | D18: sum | E18: =Quotation!F584 -> 0
A19: =Quotation!A585 -> M | B19: =Quotation!B585 -> Intelligent system、智能化工程 | C19: 1 | D19: sum | E19: =Quotation!F595 -> 0
A20: =Quotation!A597 -> N | B20: =Quotation!B597 -> Air-conditioning Works/空调工程（由大楼指定分包完成） | C20: 1 | D20: sum | E20: =Quotation!F604 -> 0
A21: =Quotation!A606 -> O | B21: =Quotation!B606 -> Fire System /消防工程（由大楼指定分包完成） | C21: 1 | D21: sum | E21: =Quotation!F613 -> 0
D23: Total | E23: =SUBTOTAL(9,E7:E22) -> 0
D25: Add site mangement fee (8%) | E25: =E23*8% -> 0
D27: Add government tax 11% | E27: =(E23+E25)*11% -> 0
D29: GRAND TOTAL | E29: =SUM(E23:E27) -> 0
B32: Net area (sqm) | E32: 2750.44
B33: RMB/sqm | E33: =E29/E32 -> 0
A38: 二 | B38: IT equipment\机房设备
A39: ='IT equipment'!A6 -> A | B39: ='IT equipment'!B6 -> UPS\不间断电源系统 | C39: 1 | D39: sum | E39: ='IT equipment'!G37 -> 0
A40: ='IT equipment'!A39 -> B | B40: ='IT equipment'!B39 -> The telephone system\电话系统 | C40: 1 | D40: sum | E40: ='IT equipment'!G100 -> 0
A41: ='IT equipment'!A102 -> C | B41: ='IT equipment'!B102 -> EMS\环境监控系统 | C41: 1 | D41: sum | E41: ='IT equipment'!G130 -> 0
A42: ='IT equipment'!A132 -> D | B42: ='IT equipment'!B132 -> 思科服务器 | C42: 1 | D42: sum | E42: ='IT equipment'!G190 -> 0
A43: ='IT equipment'!A192 -> E | B43: ='IT equipment'!B192 -> 监控系统 | C43: 1 | D43: sum | E43: ='IT equipment'!G217 -> 0
A44: ='IT equipment'!A219 -> F | B44: ='IT equipment'!B219 -> 门禁系统 | C44: 1 | D44: sum | E44: ='IT equipment'!G250 -> 0
D46: Total | E46: =SUBTOTAL(9,E39:E45) -> 0
D48: Add site mangement fee (8%) | E48: =E46*8% -> 0
D50: Add government tax 11% | E50: =(E46+E48)*11% -> 0
D52: GRAND TOTAL | E52: =SUM(E46:E50) -> 0
B55: Net area (sqm) | E55: 2750.44
B56: RMB/sqm | E56: =E52/E55 -> 0

Sheet Quotation
A1: QUOTATION工程量清单
A2: =summary!A2 -> Project NO. ：
A3: =summary!A3 -> Project Name：GALAXY FUTURES Shanghai office decoration
A4: =summary!A4 -> Date:2018_03_30
A5: 序号 | B5: DESCRIPTION OF WORKS | C5: quantity | D5: Unit | E5: Rate | F5: Amount
A6: A | B6: Preliminaries/施工措施费
A7: =SUBTOTAL(103,$C6:C$7) -> 1 | B7: Worker passport fee | C7: 1 | D7: sum | F7: =C7*E7 -> 0
B8: 工人出入证费
A10: =SUBTOTAL(103,$C$7:C10) -> 2 | B10: Drawing Vetting Fee by BMO | C10: 2750.44 | D10: sm | F10: =C10*E10 -> 0
B11: 大楼图纸审图费用
A13: =SUBTOTAL(103,$C$7:C13) -> 3 | B13: Submission to Quality Supervision Department and Safety Stand | C13: 1 | D13: sum | F13: =C13*E13 -> 0
B14: 报建费用
A16: =SUBTOTAL(103,$C$7:C16) -> 4 | B16: Project Insurance, incl. Project all Risks & 3rd Party Liability Insurance | C16: 1 | D16: sum | F16: =C16*E16 -> 0
B17: 工程保险，包括工程一切险/第三方责任险
A19: =SUBTOTAL(103,$C$7:C19) -> 5 | B19: Project Insurance: Workers Comprehensive Insurance | C19: 1 | D19: sum | F19: =C19*E19 -> 0
B20: 工程保险，工人综合险
A22: =SUBTOTAL(103,$C$7:C22) -> 6 | B22: Measures fee for civilized construction | C22: 1 | D22: sum | F22: =C22*E22 -> 0
B23: 文明施工措施费
A25: =SUBTOTAL(103,$C$7:C25) -> 7 | B25: Fire prevention facilities/secure strategies during construction. | C25: 25 | D25: set | F25: =C25*E25 -> 0
B26: 消防灭火器及箱子,2个灭火器加一个箱子为一组
A28: =SUBTOTAL(103,$C$7:C28) -> 8 | B28: Building Management attendance fee | C28: 2750.44 | D28: sm | F28: =C28*E28 -> 0
B29: 大厦收取管理费
A31: =SUBTOTAL(103,$C$7:C31) -> 9 | B31: Material inspection fee by fire department | C31: 4 | D31: sum | F31: =C31*E31 -> 0
B32: 消防部门材料检测费
A34: =SUBTOTAL(103,$C$7:C34) -> 10 | B34: Material inspection fee by quality department | C34: 8 | D34: nos | F34: =C34*E34 -> 0
B35: 质检部门材料检测费
A37: =SUBTOTAL(103,$C$7:C37) -> 11 | B37: Supply & install floor & wall protection at lift lobby and corridor | C37: 1 | D37: sum | F37: =C37*E37 -> 0
B38: 提供人工及材料对走道及电梯厅保护
A40: =SUBTOTAL(103,$C$7:C40) -> 12 | B40: Supply & install protection sheet to existing furniture /equipment | C40: 1 | D40: sum | F40: =C40*E40 -> 0
B41: 提供人工及材料对原有家具及设备进行施工期间保护
A43: =SUBTOTAL(103,$C$7:C43) -> 13 | B43: Protect works for existing curtain | C43: 1 | D43: sum | F43: =C43*E43 -> 0
B44: 原有幕墙保护
A46: =SUBTOTAL(103,$C$7:C46) -> 14 | B46: Protect works for existing air grille | C46: 1 | D46: sum | F46: =C46*E46 -> 0
B47: 原有空调风口保护
A49: =SUBTOTAL(103,$C$7:C49) -> 15 | B49: Site setting-out & marking | C49: 1 | D49: sum | F49: =C49*E49 -> 0
B50: 现场放线及标注
A52: =SUBTOTAL(103,$C$7:C52) -> 16 | B52: Measures fee for Scaffolding construction | C52: 1 | D52: sum | F52: =C52*E52 -> 0
B53: 脚手架搭建措施费
A55: =SUBTOTAL(103,$C$7:C55) -> 17 | B55: Clear debris for office premises during construction | C55: 1 | D55: sum | F55: =C55*E55 -> 0
B56: 施工期间现场垃圾清理
...

Sheet IT equipment
A1: QUOTATION工程量清单
A2: =Quotation!A2 -> Project NO. ：
A3: GALAXY FUTURES Shanghai office Net work
A4: =Quotation!A4 -> Date:2018_03_30
A5: 序号 | B5: DESCRIPTION OF WORKS | C5: model、size、specifications | D5: quantity | E5: Unit | F5: Rate | G5: Amount
A6: A | B6: UPS\不间断电源系统
A7: =SUBTOTAL(103,$D$6:D7) -> 1 | B7: Uninterrupted Power Supply | D7: 1 | E7: nos | G7: =D7*F7 -> 0
B8: UPS主机，50KVA（25K一个模块，125KV整体框）
A10: =SUBTOTAL(103,$D$6:D10) -> 2 | B10: battery | D10: 80 | E10: nos | G10: =D10*F10 -> 0
B11: 蓄电池12V-100AH
A13: =SUBTOTAL(103,$D$6:D13) -> 3 | B13: The battery cabinet | D13: 2 | E13: nos | G13: =D13*F13 -> 0
B14: 电池柜（一体化）定制
A16: =SUBTOTAL(103,$D$6:D16) -> 4 | B16: Dispersion force plane | D16: 3 | E16: nos | G16: =D16*F16 -> 0
B17: 散力架定制
A19: =SUBTOTAL(103,$D$6:D19) -> 5 | B19: Air switch box with air switch | D19: 2 | E19: nos | G19: =D19*F19 -> 0
B20: 直流空开带空开箱
A22: =SUBTOTAL(103,$D$6:D22) -> 6 | B22: Battery cable | D22: 80 | E22: lm | G22: =D22*F22 -> 0
B23: 电池连接线
A25: =SUBTOTAL(103,$D$6:D25) -> 7 | B25: Battery cable between box & battery | D25: 50 | E25: lm | G25: =D25*F25 -> 0
B26: 主机与电池间连接线（主机电池箱距离按5米预估）
A28: =SUBTOTAL(103,$D$6:D28) -> 8 | B28: The battery connects the copper terminal. | D28: 160 | E28: nos | G28: =D28*F28 -> 0
B29: 电池连接铜端子
A31: =SUBTOTAL(103,$D$6:D31) -> 9 | B31: Installation & Test Fees | D31: 1 | E31: sum | G31: =D31*F31 -> 0
B32: 货运搬运安装
A34: =SUBTOTAL(103,$D$6:D34) -> 9 | B34: Others, please specify. | G34: =D34*F34 -> 0
B35: 其它，请列明
F37: SUBTOTAL(A) | G37: =SUBTOTAL(9,G7:G36) -> 0
A39: B | B39: The telephone system\电话系统
A40: =SUBTOTAL(103,$D$6:D40) -> 10 | B40: IPO IP500 V2 CNTRL UNIT | D40: 1 | E40: nos | G40: =D40*F40 -> 0
B41: IPO500 V2 控制单元
A43: =SUBTOTAL(103,$D$6:D43) -> 11 | B43: IPO IP500 V2 SYS SD CARD AL | D43: 1 | E43: nos | G43: =D43*F43 -> 0
B44: IPO500 V2 系统SD卡
A46: =SUBTOTAL(103,$D$6:D46) -> 12 | B46: RACK MNTG KIT | D46: 11 | E46: nos | G46: =D46*F46 -> 0
B47: 机架安装配件
A49: =SUBTOTAL(103,$D$6:D49) -> 13 | B49: POWER LEAD (EARTHED) CHINA | D49: 11 | E49: nos | G49: =D49*F49 -> 0
B50: 电源线
A52: =SUBTOTAL(103,$D$6:D52) -> 14 | B52: IP OFFICE R9.1 UPGRADE ADI LIC:DS | D52: 1 | E52: nos | G52: =D52*F52 -> 0
B53: IPO R9.1升级许可（ADI）大型
A55: =SUBTOTAL(103,$D$6:D55) -> 15 | B55: IPO MC VCM 32 V2 | D55: 1 | E55: nos | G55: =D55*F55 -> 0
B56: IPO 500 MC VCM 32 V2
...
